BEGIN:VCALENDAR
VERSION:2.0
CALSCALE:GREGORIAN
METHOD:PUBLISH
PRODID://ARSO//516327
BEGIN:VEVENT
DTSTAMP:20260422T200352
VTIMEZONE:America/New_York
DTSTART:20260628T130000Z
DTEND:20260705T010000Z
UID:516327
SUMMARY:Mountain Collegium Early Music & Folk Music Workshop
LOCATION:Western Carolina University, Cullowhee, NC
DESCRIPTION:Mountain Collegium Early Music & Folk Music Workshop\n\n06/28/26 09:00 AM EST\n - 07/04/26 09:00 PM EST\Description:\nMountain Collegium is a week-long workshop with programs for all levels of early musicians and folk musicians. The workshop takes place on the scenic campus of Western Carolina University in Cullowhee, North Carolina and has programs for all levels of Early Musicians and Folk Musicians. This year we will have 19 outstanding faculty members offering nearly 50 different classes for recorder, viol, brass, double reeds, capped reeds, harp, and more. We especially invite you to sign up for at least one period of folk or crossover music, or to try one of our classes for emerging viol players or emerging recorder players. Additional classes in consort conducting, Medieval music, folk music, and much, much more offer a superbly well-rounded experience.\Details:\nTuition: $700 + one of the following 3 room and board options: Double Room (meals included; room is shared with 1 other person): $445; Single Room (meals included; bathroom is shared with 1 other single room): $520; Off Campus (meals *not* included; fee helps pay for facilities): $60. Optional linen: $20. See website for more information and to register.\Location:\nWestern Carolina University\n\nCullowhee, NC
X-ALT-DESC;FMTTYPE=text/html:Mountain Collegium Early Music & Folk Music Workshop<br /><br />06/28/26 09:00 AM EST - 07/04/26 09:00 PM EST<br />Description:<br />Mountain Collegium is a&nbsp;week-long workshop with programs for all levels of early musicians and folk musicians. The workshop takes place on the scenic campus of Western Carolina University in Cullowhee, North Carolina and has programs for all levels of Early Musicians and Folk Musicians. This year we will have 19 outstanding faculty members offering nearly 50 different classes for recorder, viol, brass, double reeds, capped reeds, harp, and more. We especially invite you to sign up for at least one period of folk or crossover music, or to try one of our classes for emerging viol players or emerging recorder players. Additional classes in consort conducting, Medieval music, folk music, and much, much more offer a superbly well-rounded experience.<br />Details:<br />Tuition: $700 + one of the following 3 room and board options: Double Room (meals included; room is shared with 1 other person): $445;&nbsp;Single Room (meals included; bathroom is shared with 1 other single room): $520;&nbsp;Off Campus (meals *not* included; fee helps pay for facilities): $60. Optional linen: $20. See website for more information and to register.<br />Location:<br />Western Carolina University<br /><br />Cullowhee, NC 
PRIORITY:3
TRANSP:TRANSPARENT
BEGIN:VALARM
TRIGGER:-PT5M
ACTION:DISPLAY
DESCRIPTION:Reminder
END:VALARM
END:VEVENT
END:VCALENDAR
