BEGIN:VCALENDAR
VERSION:2.0
CALSCALE:GREGORIAN
METHOD:PUBLISH
PRODID://ARSO//516325
BEGIN:VEVENT
DTSTAMP:20260422T223334
VTIMEZONE:America/New_York
DTSTART:20260503T180000Z
DTEND:20260503T210000Z
UID:516325
SUMMARY:Alkemie celebrates May Day in Prospect Park
LOCATION:Prospect Park, The Park Circle Lawn, Prospect Park, Brooklyn, NY, 11225
DESCRIPTION:Alkemie celebrates May Day in Prospect Park\n\n05/03/26 02:00 PM EST\n - 05/03/26 05:00 PM EST\Description:\n\nAlkemie returns to Prospect Park for its second annual May Day celebration! We encourage you to bring a picnic to this free, family-friendly drop-in event in Prospect Park near the Park Circle Lawn. The afternoon will include guided circle dances, May Pole decoration, a medieval trivia scavenger hunt, tarot card readings, and short scenes from a medieval play.\n\nPlease register to help us prepare materials and to receive updates on the event activities and location.\n\Details:\nThis is event is free\Location:\nProspect Park\nThe Park Circle Lawn, Prospect Park\nBrooklyn, NY 11225
X-ALT-DESC;FMTTYPE=text/html:Alkemie celebrates May Day in Prospect Park<br /><br />05/03/26 02:00 PM EST - 05/03/26 05:00 PM EST<br />Description:<br /><hr />
<p data-rte-preserve-empty="true"><strong>Alkemie </strong>returns to Prospect Park for its second annual May Day celebration! We encourage you to bring a picnic to this free, family-friendly drop-in event in Prospect Park near the Park Circle Lawn. The afternoon will include guided circle dances, May Pole decoration, a medieval trivia scavenger hunt, tarot card readings, and short scenes from a medieval play.</p>

<p data-rte-preserve-empty="true">Please register to help us prepare materials and to receive updates on the event activities and location.</p>
<br />Details:<br />This is event is free<br />Location:<br />Prospect Park<br />The Park Circle Lawn, Prospect Park<br />Brooklyn, NY 11225
PRIORITY:3
TRANSP:TRANSPARENT
BEGIN:VALARM
TRIGGER:-PT5M
ACTION:DISPLAY
DESCRIPTION:Reminder
END:VALARM
END:VEVENT
END:VCALENDAR
