BEGIN:VCALENDAR
VERSION:2.0
CALSCALE:GREGORIAN
METHOD:PUBLISH
PRODID://ARSO//497356
BEGIN:VEVENT
DTSTAMP:20260423T015318
VTIMEZONE:America/Los_Angeles
DTSTART:20260314T210000Z
DTEND:20260314T220000Z
UID:497356
SUMMARY:The Barbary Coast Recorder Orchestra to Perform 15th Annual Concert "Moodscapes"
LOCATION:Berkeley Fellowship of Unitarian Universalists, 1924 Cedar St (at Bonita Ave), Berkeley, CA, 94709
DESCRIPTION:The Barbary Coast Recorder Orchestra to Perform 15th Annual Concert "Moodscapes"\n\n03/14/26 02:00 PM PST\n - 03/14/26 03:00 PM PST\Description:\nThe Barbary Coast Recorder Orchestra (BCRO), co-directed by Greta Haug-Hryciw and Glen Shannon, will present their 15th season concert “Moodscapes” on Saturday March 14 at 2pm, in Berkeley, CA. The music will span the centuries from Dufay through the Beatles and feature the U.S. premier of Glen Shannon’s “Alpine Moods” arranged specially for BCRO. Other selections include recorder arrangements of pieces by Edward Elgar, Charles Gounod, Dmitri Shostakovich, Andrew Challinger and a mid-Renaissance keyboard work by Martin Peerson (1571-1651) and introduced to us last September by Jennifer Carpenter. This year's concert is dedicated to Dan Lapsansky (1945-2026), our dear friend and member of BCRO from its inception. Dan loved to play the giant recorders!\n\nThis event is an ideal opportunity to introduce listeners, including families with young children, to the joy and beauty of the entire recorder family. Questions about the instruments will be invited and encouraged at the end of the performance.\n\nBCRO has recorders from TINY to TITAN creating a wonderful rich sound! Donations gratefully accepted at the door.\nBCRO is an Educational Outreach program of Voices of Music, voicesofmusic.org.\Details:\nAdmission is FREE -- voluntary donations to benefit the Orchestra will of course be gratefully accepted at the door.\Location:\nBerkeley Fellowship of Unitarian Universalists\n1924 Cedar St (at Bonita Ave)\nBerkeley, CA 94709
X-ALT-DESC;FMTTYPE=text/html:The Barbary Coast Recorder Orchestra to Perform 15th Annual Concert "Moodscapes"<br /><br />03/14/26 02:00 PM PST - 03/14/26 03:00 PM PST<br />Description:<br /><span style="font-family:georgia,serif">The <strong>Barbary Coast Recorder Orchestra</strong> (BCRO), co-directed by Greta Haug-Hryciw and Glen Shannon, will present their 15th season concert &ldquo;Moodscapes&rdquo; on Saturday March 14 at 2pm, in Berkeley, CA. The music will span the centuries from Dufay through the Beatles and feature the U.S. premier of Glen Shannon&rsquo;s &ldquo;Alpine Moods&rdquo; arranged specially for BCRO. Other selections include recorder arrangements of pieces by Edward Elgar, Charles Gounod, Dmitri Shostakovich, Andrew Challinger and a mid-Renaissance keyboard work by Martin Peerson (1571-1651) and introduced to us last September by Jennifer Carpenter.&nbsp;This year's concert is dedicated to Dan Lapsansky (1945-2026), our dear friend and member of BCRO&nbsp;from its inception. Dan loved to play the giant recorders!<br />
<br />
This event is an ideal opportunity to introduce listeners, including families with young children,&nbsp;to the joy and beauty of the entire recorder family. Questions about the instruments will be invited and encouraged at the end of the performance.<br />
<br />
BCRO has recorders from TINY to TITAN creating a wonderful rich sound! Donations gratefully accepted at the door.<br />
BCRO is an Educational Outreach program of Voices of Music,&nbsp;<a data-saferedirecturl="https://www.google.com/url?q=http://voicesofmusic.org/?fbclid%3DIwZXh0bgNhZW0CMTAAYnJpZBExcWs0SWUzSXcyVHJFS29qOHNydGMGYXBwX2lkEDIyMjAzOTE3ODgyMDA4OTIAAR6e0ZJsp3bFKfDmM5hiMuT0K9NdBp19m8kkqALUCUkH7qtEvP4jgyUapuoyFw_aem_RESJHTZCTXafJbNT1tJbQA&amp;source=gmail&amp;ust=1772582988640000&amp;usg=AOvVaw3XK4Syua9-_x4MPLzfyeHP" href="http://voicesofmusic.org/?fbclid=IwZXh0bgNhZW0CMTAAYnJpZBExcWs0SWUzSXcyVHJFS29qOHNydGMGYXBwX2lkEDIyMjAzOTE3ODgyMDA4OTIAAR6e0ZJsp3bFKfDmM5hiMuT0K9NdBp19m8kkqALUCUkH7qtEvP4jgyUapuoyFw_aem_RESJHTZCTXafJbNT1tJbQA" rel="nofollow noreferrer" role="link" target="_blank">voicesofmusic.org.</a></span><br />Details:<br /><span style="font-family:georgia,serif">Admission is FREE -- voluntary donations to benefit the Orchestra will of course be gratefully accepted at the door.</span><br />Location:<br />Berkeley Fellowship of Unitarian Universalists<br />1924 Cedar St (at Bonita Ave)<br />Berkeley, CA 94709
PRIORITY:3
TRANSP:TRANSPARENT
BEGIN:VALARM
TRIGGER:-PT5M
ACTION:DISPLAY
DESCRIPTION:Reminder
END:VALARM
END:VEVENT
END:VCALENDAR
