BEGIN:VCALENDAR
VERSION:2.0
CALSCALE:GREGORIAN
METHOD:PUBLISH
PRODID://ARSO//497320
BEGIN:VEVENT
DTSTAMP:20260421T151921
VTIMEZONE:America/New_York
DTSTART:20260309T133000Z
DTEND:20270309T150000Z
UID:497320
SUMMARY:Virtual Recorder Technique Class
LOCATION:https://us02web.zoom.us/j/75882631536?pwd=K1FobGl6aXRoQXRpa2NHamFua3QwUT09
DESCRIPTION:Virtual Recorder Technique Class\n\n03/09/26 09:30 AM EST\n - 03/09/27 10:00 AM EST\Description:\nStart your day practicing with a supportive and fun warm-up class community! The first half of the class is appropriate for all levels, with additional challenges offered for more advanced players. The second half focuses on playing and analyzing a Baroque duet, using it to identify places to work on tone, coordination, articulation, and more. My approach is to first determine what we want to say musically, and then find the technique needed to express it. Music-minus-one videos are provided to support your practice. To register, e-mail Cantornote@icloud.com For more information visit: http://www.cantornote.com\Details:\nTwo mornings a week\nMonday and Wednesday 9:30-10:00 EST\n$100 for four classes \nThe class is ongoing and can be joined at any time\Location:\nhttps://us02web.zoom.us/j/75882631536?pwd=K1FobGl6aXRoQXRpa2NHamFua3QwUT09\n\n,
X-ALT-DESC;FMTTYPE=text/html:Virtual Recorder Technique Class<br /><br />03/09/26 09:30 AM EST - 03/09/27 10:00 AM EST<br />Description:<br />Start your day practicing with a supportive and fun warm-up class community! The first half of the class is appropriate for all levels, with additional challenges offered for more advanced players. The second half focuses on playing and analyzing a Baroque duet, using it to identify places to work on tone, coordination, articulation, and more. My approach is to first determine what we want to say musically, and then find the technique needed to express it. Music-minus-one videos are provided to support your practice. To register, e-mail Cantornote@icloud.com For more information visit: http://www.cantornote.com<br />Details:<br />Two mornings a week<br />
Monday and Wednesday 9:30-10:00 EST<br />
$100 for four classes&nbsp;<br />
The class is ongoing and can be joined at any time<br />Location:<br />https://us02web.zoom.us/j/75882631536?pwd=K1FobGl6aXRoQXRpa2NHamFua3QwUT09<br /><br />,  
PRIORITY:3
TRANSP:TRANSPARENT
BEGIN:VALARM
TRIGGER:-PT5M
ACTION:DISPLAY
DESCRIPTION:Reminder
END:VALARM
END:VEVENT
END:VCALENDAR
