BEGIN:VCALENDAR
VERSION:2.0
CALSCALE:GREGORIAN
METHOD:PUBLISH
PRODID://ARSO//494196
BEGIN:VEVENT
DTSTAMP:20260422T212011
VTIMEZONE:America/Chicago
DTSTART:20260611T000000Z
DTEND:20260611T010000Z
UID:494196
SUMMARY:Rounds Workshops
LOCATION:https://www.greenblattandseay.com/workshops_rounds.shtml, The Old Avoca Schoolhouse, Avoca, NE, 68307
DESCRIPTION:Rounds Workshops\n\n06/10/26 07:00 PM CST\n - 06/10/26 08:00 PM CST\Description:\nThe Old Avoca Schoolhouse in Avoca, Nebraska will be streaming three on line Rounds Workshops for violins, violas, cellos, basses, soprano recorder, alto recorder, tenor recorder, and bass recorder.\n\nThe workshop will explore tunes from our Book of Rounds collection.  It has 40 tunes in 13 keys from 12 countries.  The lyrics for 27 tunes are included, with handy indexes to organize it all.\n\n \Details:\nThe Old Avoca Schoolhouse in Avoca, Nebraska will be streaming three on line Rounds Workshops for violins, violas, cellos, basses, soprano recorder, alto recorder, tenor recorder, and bass recorder.\n\nThe workshop will explore tunes from our Book of Rounds collection.  It has 40 tunes in 13 keys from 12 countries.  The lyrics for 27 tunes are included, with handy indexes to organize it all.\n\n\nThe Workshops will be on Tuesday, June 9, 7 PM, Central Time, Wednesday, June 10, 10 AM, Central Time, and Friday, June 12, 7 PM, Central Time.\n\n\nDifferent tunes will be played at each session.   We will read, play, and discuss various survival skills for these tunes. \n\nThere is limited enrollment, and pre-registration is required.  The cost for each workshop is $15.00.  The cost of each optional book is $15.00 (includes shipping if ordered with workshop registration).   To view a sample tune from the collection, and to see a list of the tunes, click on the following link:\n\n\nhttps://www.greenblattandseay.com/book_solos_rounds.shtml\n\n\nFor more information, and to register for the workshop: \nhttps://www.greenblattandseay.com/workshops_rounds.shtml\n\n“This is a well-conceived volume of simple yet beautiful music”…Hollis Taylor, Fiddler Magazine\n\n“The wide variety of rounds in this book makes it hard to stop playing once started.”…Michael Vidulich, Australian and New Zealand Viola Society\Location:\nhttps://www.greenblattandseay.com/workshops_rounds.shtml\nThe Old Avoca Schoolhouse\nAvoca, NE 68307
X-ALT-DESC;FMTTYPE=text/html:Rounds Workshops<br /><br />06/10/26 07:00 PM CST - 06/10/26 08:00 PM CST<br />Description:<br />The Old Avoca Schoolhouse in Avoca, Nebraska will be streaming three on line Rounds Workshops for violins, violas, cellos, basses, soprano recorder, alto recorder, tenor recorder, and bass recorder.<br />
<br />
The workshop will explore tunes from our Book of Rounds collection.&nbsp; It has 40 tunes in 13 keys from 12 countries.&nbsp; The lyrics for 27 tunes are included, with handy indexes to organize it all.<br />
<br />
&nbsp;<br />Details:<br />The Old Avoca Schoolhouse in Avoca, Nebraska will be streaming three on line Rounds Workshops for violins, violas, cellos, basses, soprano recorder, alto recorder, tenor recorder, and bass recorder.<br />
<br />
The workshop will explore tunes from our Book of Rounds collection.&nbsp; It has 40 tunes in 13 keys from 12 countries.&nbsp; The lyrics for 27 tunes are included, with handy indexes to organize it all.<br />
<br />
<br />
The Workshops will be on Tuesday, June 9, 7 PM, Central Time, Wednesday, June 10, 10 AM, Central Time, and Friday, June 12, 7 PM, Central Time.<br />
<br />
<br />
Different tunes will be played at each session.&nbsp; &nbsp;We will read, play, and discuss various survival skills for these tunes.&nbsp;<br />
<br />
There is limited enrollment, and pre-registration is required.&nbsp; The cost for each workshop is $15.00.&nbsp; The cost of each optional book is $15.00 (includes shipping if ordered with workshop registration).&nbsp; &nbsp;To view a sample tune from the collection, and to see a list of the tunes, click on the following link:<br />
<br />
<br />
<a href="https://www.greenblattandseay.com/book_solos_rounds.shtml">https://www.greenblattandseay.com/book_solos_rounds.shtml</a><br />
<br />
<br />
For more information, and to register for the workshop:&nbsp;<br />
<a href="https://www.greenblattandseay.com/workshops_rounds.shtml">https://www.greenblattandseay.com/workshops_rounds.shtml</a><br />
<br />
&ldquo;This is a well-conceived volume of simple yet beautiful music&rdquo;&hellip;Hollis Taylor, Fiddler Magazine<br />
<br />
&ldquo;The wide variety of rounds in this book makes it hard to stop playing once started.&rdquo;&hellip;Michael Vidulich, Australian and New Zealand Viola Society<br />Location:<br />https://www.greenblattandseay.com/workshops_rounds.shtml<br />The Old Avoca Schoolhouse<br />Avoca, NE 68307
PRIORITY:3
TRANSP:TRANSPARENT
BEGIN:VALARM
TRIGGER:-PT5M
ACTION:DISPLAY
DESCRIPTION:Reminder
END:VALARM
END:VEVENT
END:VCALENDAR
