BEGIN:VCALENDAR
VERSION:2.0
CALSCALE:GREGORIAN
METHOD:PUBLISH
PRODID://ARSO//494193
BEGIN:VEVENT
DTSTAMP:20260422T234931
VTIMEZONE:America/Chicago
DTSTART:20260506T000000Z
DTEND:20260506T010000Z
UID:494193
SUMMARY:French Fiddle Tunes for Two Workshop
LOCATION:https://www.greenblattandseay.com/workshops_french.shtml, 504 Garfield St. The Old Avoca Schoolhouse The Old Avoca Schoolhouse, Avoca, Ne, 68307
DESCRIPTION:French Fiddle Tunes for Two Workshop\n\n05/05/26 07:00 PM CST\n - 05/05/26 08:00 PM CST\Description:\nThe Old Avoca Schoolhouse in Avoca, Nebraska will be streaming three on line French Fiddle Tunes for Two Workshops for violins, violas, cellos, basses, mandolins, soprano recorder, and alto recorder.\n\nThe workshop will explore tunes from our French Fiddle Tunes for Two book.  This collection of 37 traditional French tunes offer you the opportunity to play many different dance forms, including a couple of bourées, mazurkas, as well as a branle, a farandole, a galop, a schottische, and a tarantella.  These charming pieces are from several regions of France, including Alsace, Auvergne, Brittany, Flanders, and Gascogne.\n\n \Details:\nThe Old Avoca Schoolhouse in Avoca, Nebraska will be streaming three on line French Fiddle Tunes for Two Workshops for violins, violas, cellos, basses, mandolins, soprano recorder, and alto recorder.\n\nThe workshop will explore tunes from our French Fiddle Tunes for Two book.  This collection of 37 traditional French tunes offer you the opportunity to play many different dance forms, including a couple of bourées, mazurkas, as well as a branle, a farandole, a galop, a schottische, and a tarantella.  These charming pieces are from several regions of France, including Alsace, Auvergne, Brittany, Flanders, and Gascogne.\n\n\nThe Workshops will be on Tuesday, May 5, 7 PM, Central Time, Wednesday, May 6, 10 AM, Central Time, and Friday, May 8, 7 PM, Central Time.\n\nDifferent tunes will be played at each session. \n\nWe will read, play, and discuss various survival skills for these tunes.  A treble clef version of the sheet music for the tunes being played will be displayed on the screen during the workshop.\n\nThere is limited enrollment, and pre-registration is required.  The cost for each workshop is $15.00. \n\nThe cost of each optional book is $15.00 (includes shipping if ordered with workshop registration). \n\nTo read reviews of the French Fiddle Tunes for Two collection, click on the following link:\nhttps://www.greenblattandseay.com/book_42_french.shtml.\n\nFor more information, and to register for the workshop: \n\nhttps://www.greenblattandseay.com/workshops_french.shtml\Location:\nhttps://www.greenblattandseay.com/workshops_french.shtml\n504 Garfield St. The Old Avoca Schoolhouse The Old Avoca Schoolhouse\nAvoca, Ne 68307
X-ALT-DESC;FMTTYPE=text/html:French Fiddle Tunes for Two Workshop<br /><br />05/05/26 07:00 PM CST - 05/05/26 08:00 PM CST<br />Description:<br />The Old Avoca Schoolhouse in Avoca, Nebraska will be streaming three on line French Fiddle Tunes for Two Workshops for violins, violas, cellos, basses, mandolins, soprano recorder, and alto recorder.<br />
<br />
The workshop will explore tunes from our French Fiddle Tunes for Two book.&nbsp; This collection of 37 traditional French tunes offer you the opportunity to play many different dance forms, including a couple of bour&eacute;es, mazurkas, as well as a branle, a farandole, a galop, a schottische, and a tarantella.&nbsp; These charming pieces are from several regions of France, including Alsace, Auvergne, Brittany, Flanders, and Gascogne.<br />
<br />
&nbsp;<br />Details:<br />The Old Avoca Schoolhouse in Avoca, Nebraska will be streaming three on line French Fiddle Tunes for Two Workshops for violins, violas, cellos, basses, mandolins, soprano recorder, and alto recorder.<br />
<br />
The workshop will explore tunes from our French Fiddle Tunes for Two book.&nbsp; This collection of 37 traditional French tunes offer you the opportunity to play many different dance forms, including a couple of bour&eacute;es, mazurkas, as well as a branle, a farandole, a galop, a schottische, and a tarantella.&nbsp; These charming pieces are from several regions of France, including Alsace, Auvergne, Brittany, Flanders, and Gascogne.<br />
<br />
<br />
The Workshops will be on Tuesday, May 5, 7 PM, Central Time, Wednesday, May 6, 10 AM, Central Time, and Friday, May 8, 7 PM, Central Time.<br />
<br />
Different tunes will be played at each session.&nbsp;<br />
<br />
We will read, play, and discuss various survival skills for these tunes.&nbsp; A treble clef version of the sheet music for the tunes being played will be displayed on the screen during the workshop.<br />
<br />
There is limited enrollment, and pre-registration is required.&nbsp; The cost for each workshop is $15.00.&nbsp;<br />
<br />
The cost of each optional book is $15.00 (includes shipping if ordered with workshop registration).&nbsp;<br />
<br />
To read reviews of the French Fiddle Tunes for Two collection, click on the following link:<br />
https://www.greenblattandseay.com/book_42_french.shtml.<br />
<br />
For more information, and to register for the workshop:&nbsp;<br />
<br />
https://www.greenblattandseay.com/workshops_french.shtml<br />Location:<br />https://www.greenblattandseay.com/workshops_french.shtml<br />504 Garfield St. The Old Avoca Schoolhouse The Old Avoca Schoolhouse<br />Avoca, Ne 68307
PRIORITY:3
TRANSP:TRANSPARENT
BEGIN:VALARM
TRIGGER:-PT5M
ACTION:DISPLAY
DESCRIPTION:Reminder
END:VALARM
END:VEVENT
END:VCALENDAR
