BEGIN:VCALENDAR
VERSION:2.0
CALSCALE:GREGORIAN
METHOD:PUBLISH
PRODID://ARSO//483690
BEGIN:VEVENT
DTSTAMP:20260421T100307
VTIMEZONE:America/Los_Angeles
DTSTART:20260216T180000Z
DTEND:20260217T000000Z
UID:483690
SUMMARY:"Love and Passion" - a one-day workshop for recorders and other "soft" instruments
LOCATION:Christ Church Lutheran, 1090 Quintara Street (at 20th Ave), San Francisco, CA, 94116
DESCRIPTION:"Love and Passion" - a one-day workshop for recorders and other "soft" instruments\n\n02/16/26 10:00 AM PST\n - 02/16/26 04:00 PM PST\Description:\n\nRegistration is now open for The San Francisco Recorder Society's 20th annual recorder workshop, directed by the "dream team" of Hanneke van Proosdij and Rotem Gilbert on Presidents Day, Monday, February 16. This year's topic is "Love and Passion," intended to uplift us and offer connection and beauty through the music. Participation is open to recorder players and players of other "soft" instruments, such as harps and other plucked or bowed strings, and "soft" (not loud ðŸ˜Š) reeds. Two levels of participation: low-intermediate and high-intermediate/advanced players. We welcome first-time workshop attendees! Invite your recorder-loving friends and sign up now! Play for the full day or a half-day (morning or afternoon).\n\nThe registration form with details is linked HERE:\nhttps://forms.gle/rf38dVJxssCoZcGu5\nPlease note that participation is limited to 50 players. \n\nFor more information, write to SFRecorders@gmail.com, or call 415-377-4444\n\Details:\n\n	Full day tuition: $65\n	Half day tuition: $42\n	Refreshments provided by SFRS chapter members (but bring your own lunch)\n	Music files will be sent several days in advance by email\n	Mentoring by experienced players is available on request \n\n\Location:\nChrist Church Lutheran\n1090 Quintara Street (at 20th Ave)\nSan Francisco, CA 94116
X-ALT-DESC;FMTTYPE=text/html:"Love and Passion" - a one-day workshop for recorders and other "soft" instruments<br /><br />02/16/26 10:00 AM PST - 02/16/26 04:00 PM PST<br />Description:<br /><!-- x-tinymce/html -->
<p><span style="font-family:georgia,serif"><span style="font-size:14px">Registration is now open for <strong><em>The San Francisco Recorder Society's</em></strong> 20th annual recorder workshop, directed by the &quot;dream team&quot; of Hanneke van Proosdij and Rotem Gilbert on Presidents Day, Monday, February 16. This year's topic is <em>&quot;Love and Passion,&quot;</em> intended to uplift us and offer connection and beauty through the music. Participation is open to recorder players and players of other &quot;soft&quot; instruments, such as harps and other plucked or bowed strings, and &quot;soft&quot; (not loud ðŸ˜Š) reeds. Two levels of participation: low-intermediate and high-intermediate/advanced players. We welcome first-time workshop attendees! Invite your recorder-loving friends and sign up now! Play for the full day or a half-day (morning or afternoon).</span></span></p>

<p><span style="font-family:georgia,serif"><span style="font-size:14px">The registration form with details is linked HERE:<br />
<a href="https://forms.gle/rf38dVJxssCoZcGu5" rel="noopener" target="_blank" title="Google form for SFRS 2026 workshop">https://forms.gle/rf38dVJxssCoZcGu5</a><br />
<em>Please note that participation is limited to 50 players.</em>&nbsp;</span></span></p>

<p><span style="font-family:georgia,serif"><span style="font-size:14px">For more information, write to SFRecorders@gmail.com, or call 415-377-4444</span></span></p>
<br />Details:<br /><ul>
	<li><span style="font-family:georgia,serif">Full day tuition: $65</span></li>
	<li><span style="font-family:georgia,serif">Half day tuition: $42</span></li>
	<li><span style="font-family:georgia,serif">Refreshments provided by SFRS chapter members (but bring your own lunch)</span></li>
	<li><span style="font-family:georgia,serif">Music files will be sent several days in advance by email</span></li>
	<li><span style="font-family:georgia,serif">Mentoring by experienced players is available on request&nbsp;</span></li>
</ul>
<br />Location:<br />Christ Church Lutheran<br />1090 Quintara Street (at 20th Ave)<br />San Francisco, CA 94116
PRIORITY:3
TRANSP:TRANSPARENT
BEGIN:VALARM
TRIGGER:-PT5M
ACTION:DISPLAY
DESCRIPTION:Reminder
END:VALARM
END:VEVENT
END:VCALENDAR
