BEGIN:VCALENDAR
VERSION:2.0
CALSCALE:GREGORIAN
METHOD:PUBLISH
PRODID://ARSO//482445
BEGIN:VEVENT
DTSTAMP:20260422T201924
VTIMEZONE:America/New_York
DTSTART:20260210T211500Z
DTEND:20260210T223000Z
UID:482445
SUMMARY:An All-Zoom Practice Challenge: Making Friends with French Baroque Music
LOCATION:
DESCRIPTION:An All-Zoom Practice Challenge: Making Friends with French Baroque Music\n\n02/10/26 04:15 PM EST\n - 02/10/26 05:30 PM EST\Description:\nLed by Tish Berlin\n\nFrench Baroque music can often seem like a foreign language – you've practiced Handel and Bach, and learned a few trill fingerings along the way, but maybe you've wondered about the suites by French composers and the art of ornamenting them. Boismortier, Hotteterre, Dieupart, and others who were composing and performing in French aristocratic circles in the 18th century offer a wealth of beautiful music for us to discover.  We'll learn about and practice some of the French agréments - trills, the port de voix, battement, flattement, tour de chant, and tour de gosier - in context so they become second nature.  We'll listen to recordings to hear the music that charmed Louis XIV and XV and their courts. We'll learn how to adorn movements from suites by Boismortier with beautiful ornaments! For alto recorder players. \n\nPayment: $25 per individual class, or $125 for all five. Please email tishberlin@sbcglobal.net with classes desired and I'll send you payment information.\n
X-ALT-DESC;FMTTYPE=text/html:An All-Zoom Practice Challenge: Making Friends with French Baroque Music<br /><br />02/10/26 04:15 PM EST - 02/10/26 05:30 PM EST<br />Description:<br /><p>Led by Tish Berlin<br />
<br />
French Baroque music can often seem like a foreign language &ndash; you've practiced Handel and Bach, and learned a few trill fingerings along the way, but maybe you've wondered about the suites by French composers and the art of ornamenting them. Boismortier, Hotteterre, Dieupart, and others who were composing and performing in French aristocratic circles in the 18<sup>th</sup>&nbsp;century offer a wealth of beautiful music for us to discover.&nbsp;&nbsp;We'll learn about and practice some of the French&nbsp;<em>agr&eacute;ments</em>&nbsp;-&nbsp;trills, the port de voix, battement, flattement, tour de chant, and tour de gosier&nbsp;-&nbsp;in context so they become second nature.&nbsp;&nbsp;We'll listen to recordings to hear the music that charmed Louis XIV and XV and their courts. We'll learn how to adorn movements from suites by Boismortier with beautiful ornaments! For alto recorder players.&nbsp;</p>

<p><font color="#333333" face="Helvetica Neue" size="2">Payment: $25 per individual class, or $125 for all five. Please email tishberlin@sbcglobal.net with classes desired and I'll send you payment information.</font></p>

PRIORITY:3
TRANSP:TRANSPARENT
BEGIN:VALARM
TRIGGER:-PT5M
ACTION:DISPLAY
DESCRIPTION:Reminder
END:VALARM
END:VEVENT
END:VCALENDAR
