BEGIN:VCALENDAR
VERSION:2.0
CALSCALE:GREGORIAN
METHOD:PUBLISH
PRODID://ARSO//482438
BEGIN:VEVENT
DTSTAMP:20260423T014652
VTIMEZONE:America/New_York
DTSTART:20260203T180000Z
DTEND:20260203T191500Z
UID:482438
SUMMARY:Bach on the Bass: Two-Part Inventions with Tish Berlin
LOCATION:
DESCRIPTION:Bach on the Bass: Two-Part Inventions with Tish Berlin\n\n02/03/26 01:00 PM EST\n - 02/03/26 02:15 PM EST\Description:\n10:00 am - 11:15 am Pacific/1:00 pm - 2:15 pm Eastern\n \nJohann Sebastian Bach's two-part inventions and three-part sinfonias provide recorder players and other non-keyboard instrumentalists) with a wonderful collection of pieces to play. Over these five weeks we'll work on three of the two-part inventions on our bass recorders.  Part of our work will involve making decisions on how to deal with parts that go out of our range, learning how to make changes that retain the beauty of the line. We'll also exercise our skills on switching from bass clef to treble clef by playing both parts of the inventions. Along the way we'll continue to work on good bass technique.\n\nFor bass recorder players.\nPayment: $25 per individual class, or $125 for all five. Please email tishberlin@sbcglobal.net with classes desired and I'll send you payment information
X-ALT-DESC;FMTTYPE=text/html:Bach on the Bass: Two-Part Inventions with Tish Berlin<br /><br />02/03/26 01:00 PM EST - 02/03/26 02:15 PM EST<br />Description:<br />10:00 am - 11:15 am Pacific/1:00 pm - 2:15 pm Eastern<br />
&nbsp;
<p>Johann Sebastian Bach's two-part inventions and three-part sinfonias provide recorder players and other non-keyboard instrumentalists) with a wonderful collection of pieces to play. Over these five weeks we'll work on three of the two-part inventions on our bass recorders.&nbsp;&nbsp;Part of our work will involve making decisions on how to deal with parts that go out of our range, learning how to make changes that retain the beauty of the line. We'll also exercise our skills on switching from bass&nbsp;clef&nbsp;to treble clef by playing both parts of the inventions. Along the way we'll continue to work on good bass technique.</p>

<p>For bass recorder players.</p>
Payment: $25 per individual class, or $125 for all five. Please email tishberlin@sbcglobal.net with classes desired and I'll send you payment information
PRIORITY:3
TRANSP:TRANSPARENT
BEGIN:VALARM
TRIGGER:-PT5M
ACTION:DISPLAY
DESCRIPTION:Reminder
END:VALARM
END:VEVENT
END:VCALENDAR
