BEGIN:VCALENDAR
VERSION:2.0
CALSCALE:GREGORIAN
METHOD:PUBLISH
PRODID://ARSO//473398
BEGIN:VEVENT
DTSTAMP:20260421T113750
VTIMEZONE:America/New_York
DTSTART:20260207T143000Z
DTEND:20260207T200000Z
UID:473398
SUMMARY:Sarasota Early Music Workshop
LOCATION:First United Church of Christ, 1031 S Euclid Ave, Sarasota, FL, 34210
DESCRIPTION:Sarasota Early Music Workshop\n\n02/07/26 09:30 AM EST\n - 02/07/26 03:00 PM EST\Description:\nThis six-hour workshop with Glen Shannon and Greta Haug-Hryciw, using a theme of "Recorders Bright and Dark," features a large group session for all players, followed by afternoon breakouts for intermediate and advanced players. Participants are primarily recorder players but players of other early music instruments, e.g. lute, viola da gamba, etc. are welcome.\n\nEach clinician works with each breakout group.\n\n \Details:\nWorkshop cost = $60\n\nBring your own lunch or order one from our caterer. You will receive a lunch order form upon registering.\n\n2026 Workshop Registration Form\Location:\nFirst United Church of Christ\n1031 S Euclid Ave\nSarasota, FL 34210
X-ALT-DESC;FMTTYPE=text/html:Sarasota Early Music Workshop<br /><br />02/07/26 09:30 AM EST - 02/07/26 03:00 PM EST<br />Description:<br />This six-hour workshop with Glen Shannon and Greta Haug-Hryciw, using a theme of &quot;Recorders Bright and Dark,&quot; features a large group session for all players, followed by afternoon breakouts for intermediate and advanced players. Participants are primarily recorder players but players of other early music instruments, e.g. lute, viola da&nbsp;gamba, etc. are welcome.<br />
<br />
Each clinician works with each breakout group.<br />
<br />
&nbsp;<br />Details:<br />Workshop cost = $60<br />
<br />
Bring your own lunch or order one from our caterer. You will receive a lunch order form upon registering.<br />
<br />
<a data-saferedirecturl="https://www.google.com/url?q=https://docs.google.com/forms/d/1Ob6UMHeENGzTIoPbU-E7AXCdGs4MJWuHvDeuV1zpl6s/edit&amp;source=gmail&amp;ust=1767129521373000&amp;usg=AOvVaw3459olyQA0HgSPm4O53izs" href="https://docs.google.com/forms/d/1Ob6UMHeENGzTIoPbU-E7AXCdGs4MJWuHvDeuV1zpl6s/edit" target="_blank"><strong>2026 Workshop Registration Form</strong></a><br />Location:<br />First United Church of Christ<br />1031 S Euclid Ave<br />Sarasota, FL 34210
PRIORITY:3
TRANSP:TRANSPARENT
BEGIN:VALARM
TRIGGER:-PT5M
ACTION:DISPLAY
DESCRIPTION:Reminder
END:VALARM
END:VEVENT
END:VCALENDAR
