BEGIN:VCALENDAR
VERSION:2.0
CALSCALE:GREGORIAN
METHOD:PUBLISH
PRODID://ARSO//473321
BEGIN:VEVENT
DTSTAMP:20260422T202019
VTIMEZONE:America/New_York
DTSTART:20260121T000000Z
DTEND:20260130T004500Z
UID:473321
SUMMARY:Second Level Bass Beginners' Class with Jody Miller
LOCATION:Zoom online platform - a sign-in link will be sent to registrants
DESCRIPTION:Second Level Bass Beginners' Class with Jody Miller\n\n01/20/26 07:00 PM EST\n - 01/29/26 07:45 PM EST\Description:\nBass Recorder, Step 2 with Jody Miller \nPrerequisites: Either participation in the Beginning Bass class or the ability to play recorder at least one octave while reading bass clef.\n\nMany think that the bass lines are the easiest to play.  After all, the bass line can often be less technically demanding and might even have more rests than the other lines.  Experienced ensemble players know that a weak bass player can really hold back the progress of an ensemble.  The bass line is truly the foundation upon which a piece is written, defining the chord structure, the rhythmic backbone, and even the core sound of the group.  In this class, participants will learn to analyze and play idiomatic bass lines that set up an ensemble for success.  We’ll also learn a bit about the inconsistencies of publishers and how to play music written in treble clef and how the bass recorder might sometimes function as the alto or tenor voice within the ensemble.  Sessions will be presented through Zoom.  A computer with good speakers or high quality headphones are suggested.\n\nRequired materials:  A bass recorder in F, a music stand, a neck strap, a pencil\n\nAll other class materials will be provided in PDF format a few days before the start of class.  Participants should either print the materials or download them to a tablet that is separate from the device used for connection to Zoom.\n\nSome recommended resin (plastic) recorders:\n\nYamaha YRB-302B\nAulos A533 B\nAulos A521B\nThere are also many good wooden instruments.  For instrument inquiries, you are encouraged to contact one of the ARS Business Members.  These vendors will have the knowledge to assist and are able to answer recorder-specific questions.\n\nThis class is available at no charge to ARS members, only. When registering, use the email address associated with your ARS membership. If you are not an ARS member, you may click HERE to join.  These classes are limited in size to allow for more interaction between the teacher and students. If you have already taken two or more of our Second Level classes, please wait until one week prior to the start of class to sign up, in order to allow a larger number of people to take advantage of these opportunities.\n\nDates:\nTuesday, January 20 at 7 PM ET (6 PM CT; 5 PM MT, 4 PM PT)\nThursday, January 22 at 7 PM ET (6 PM CT; 5 PM MT, 4 PM PT)\nTuesday, January 27 at 7 PM ET (6 PM CT; 5 PM MT, 4 PM PT)\nThursday, January 29 at 7 PM ET (6 PM CT; 5 PM MT, 4 PM PT)\n \Location:\nZoom online platform - a sign-in link will be sent to registrants\n\n,
X-ALT-DESC;FMTTYPE=text/html:Second Level Bass Beginners' Class with Jody Miller<br /><br />01/20/26 07:00 PM EST - 01/29/26 07:45 PM EST<br />Description:<br /><strong>Bass Recorder, Step 2 with&nbsp;<a href="https://fippleflute.com/" style="font-weight: bold;" target="_blank">Jody Miller</a>&nbsp;</strong>
<p>Prerequisites: Either participation in the Beginning Bass class or the ability to play recorder at least one octave while reading bass clef.</p>

<p>Many think that the bass lines are the easiest to play.&nbsp; After all, the bass line can often be less technically demanding and might even have more rests than the other lines.&nbsp; Experienced ensemble players know that a weak bass player can really hold back the progress of an ensemble.&nbsp; The bass line is truly the foundation upon which a piece is written, defining the chord structure, the rhythmic backbone, and even the core sound of the group.&nbsp; In this class, participants will learn to analyze and play idiomatic bass lines that set up an ensemble for success.&nbsp; We&rsquo;ll also learn a bit about the inconsistencies of publishers and how to play music written in treble clef and how the bass recorder might sometimes function as the alto or tenor voice within the ensemble.&nbsp; Sessions will be presented through Zoom.&nbsp; A computer with good speakers or high quality headphones are suggested.</p>

<p>Required materials:&nbsp; A bass recorder in F, a music stand, a neck strap, a pencil</p>

<p>All other class materials will be provided in PDF format a few days before the start of class.&nbsp; Participants should either print the materials or download them to a tablet that is separate from the device used for connection to Zoom.</p>

<p>Some recommended resin (plastic) recorders:</p>

<p>Yamaha YRB-302B<br />
Aulos A533 B<br />
Aulos A521B<br />
There are also many good wooden instruments.&nbsp; For instrument inquiries, you are encouraged to contact one of the ARS Business Members.&nbsp; These vendors will have the knowledge to assist and are able to answer recorder-specific questions.</p>
<br />
<span style="font-size:14px"><em>This class is available at no charge to ARS members, only. When registering, use the email address associated with your ARS membership. If you are not an ARS member, you may click <a href="https://americanrecorder.org/join_or_renew_now.php" target="_blank">HERE</a> to join.&nbsp; These classes are limited in size to allow for more interaction between the teacher and students.&nbsp;<strong>If you have already taken two or more of our Second Level classes, please wait until one week prior to the start of class to sign up, in order to allow a larger number of people to take advantage of these opportunities.</strong></em><br />
<br />
<strong>Dates:</strong><br />
Tuesday, January 20 at 7&nbsp;PM ET (6 PM CT; 5 PM MT, 4 PM PT)<br />
Thursday, January 22&nbsp;at 7&nbsp;PM ET (6 PM CT; 5 PM MT, 4 PM PT)<br />
Tuesday, January 27&nbsp;at 7&nbsp;PM ET (6 PM CT; 5 PM MT, 4 PM PT)<br />
Thursday, January 29&nbsp;at 7&nbsp;PM ET (6 PM CT; 5 PM MT, 4 PM PT)</span><br />
&nbsp;<br />Location:<br />Zoom online platform - a sign-in link will be sent to registrants<br /><br />,  
PRIORITY:3
TRANSP:TRANSPARENT
BEGIN:VALARM
TRIGGER:-PT5M
ACTION:DISPLAY
DESCRIPTION:Reminder
END:VALARM
END:VEVENT
END:VCALENDAR
