BEGIN:VCALENDAR
VERSION:2.0
CALSCALE:GREGORIAN
METHOD:PUBLISH
PRODID://ARSO//473308
BEGIN:VEVENT
DTSTAMP:20260422T171659
VTIMEZONE:America/Los_Angeles
DTSTART:20260926T160000Z
DTEND:20260927T230000Z
UID:473308
SUMMARY:Fall Fipple Flute Forum
LOCATION:Shoreline Community College, 16101 Greenwood Ave N, Shoreline, WA, 98133
DESCRIPTION:Fall Fipple Flute Forum\n\n09/26/26 09:00 AM PST\n - 09/27/26 04:00 PM PST\Description:\nA Fun Filled Flauto-dolce Festival Fostering Friendship, Fugues, Fandangos and Flagrant Fits of Folderol!\n\Details:\nA two day event is open to players of all abilities, with a particular focus on players who are unable to attend bigger events in other areas. Scholarships are available for participants of any age.  A faculty concert will be held the Friday before (September 25) at a location to be announced.\Location:\nShoreline Community College\n16101 Greenwood Ave N\nShoreline, WA 98133
X-ALT-DESC;FMTTYPE=text/html:Fall Fipple Flute Forum<br /><br />09/26/26 09:00 AM PST - 09/27/26 04:00 PM PST<br />Description:<br /><p><span style="font-size:14px">A Fun Filled Flauto-dolce Festival Fostering Friendship, Fugues, Fandangos and Flagrant Fits of Folderol!</span></p>
<br />Details:<br /><span style="font-size:14px">A&nbsp;two day event is open to players of all abilities, with a particular focus on players who are unable to attend bigger events in other areas. Scholarships are available for participants of any age.&nbsp; A faculty concert will be held the Friday before (September 25) at a location to be announced.</span><br />Location:<br />Shoreline Community College<br />16101 Greenwood Ave N<br />Shoreline, WA 98133
PRIORITY:3
TRANSP:TRANSPARENT
BEGIN:VALARM
TRIGGER:-PT5M
ACTION:DISPLAY
DESCRIPTION:Reminder
END:VALARM
END:VEVENT
END:VCALENDAR
