BEGIN:VCALENDAR
VERSION:2.0
CALSCALE:GREGORIAN
METHOD:PUBLISH
PRODID://ARSO//467527
BEGIN:VEVENT
DTSTAMP:20260419T091040
VTIMEZONE:America/New_York
DTSTART:20260409T183000Z
DTEND:20260409T193000Z
UID:467527
SUMMARY:Free Recorder Masterclass in Recorder Music Composing and Arranging: Part 2
LOCATION:On Zoom, or, The Actorsâ€™ Chapel in St. Malachyâ€™s Church, New York, NY, 10019
DESCRIPTION:Free Recorder Masterclass in Recorder Music Composing and Arranging: Part 2\n\n04/09/26 02:30 PM EST\n - 04/09/26 03:30 PM EST\Description:\nIn the second of a series of two hybrid masterclasses, Maestro Hurd will take drafts of new works by aspiring recorder composers, and provide helpful and encouraging feedback. Selected works will also be considered for inclusion in the ARS Digital Music Library.\n \Location:\nOn Zoom, or\nThe Actorsâ€™ Chapel in St. Malachyâ€™s Church\nNew York, NY 10019
X-ALT-DESC;FMTTYPE=text/html:Free Recorder Masterclass in Recorder Music Composing and Arranging: Part 2<br /><br />04/09/26 02:30 PM EST - 04/09/26 03:30 PM EST<br />Description:<br />In the second of a series of two hybrid masterclasses, Maestro Hurd will take drafts of new works by aspiring recorder composers, and provide helpful and encouraging feedback. Selected works will also be considered for inclusion in the ARS Digital Music Library.<br />
&nbsp;<br />Location:<br />On Zoom, or<br />The Actorsâ€™ Chapel in St. Malachyâ€™s Church<br />New York, NY 10019
PRIORITY:3
TRANSP:TRANSPARENT
BEGIN:VALARM
TRIGGER:-PT5M
ACTION:DISPLAY
DESCRIPTION:Reminder
END:VALARM
END:VEVENT
END:VCALENDAR
