BEGIN:VCALENDAR
VERSION:2.0
CALSCALE:GREGORIAN
METHOD:PUBLISH
PRODID://ARSO//467112
BEGIN:VEVENT
DTSTAMP:20260422T225731
VTIMEZONE:America/New_York
DTSTART:20260106T003000Z
DTEND:20260106T020000Z
UID:467112
SUMMARY:Online Seminar: A Renaissance Three Kings Day Celebration: Spanish Motets and Villancicos by Victoria, Morales, and Guerrero
LOCATION:https://hprecorder.org/join/application/online-seminars/
DESCRIPTION:Online Seminar: A Renaissance Three Kings Day Celebration: Spanish Motets and Villancicos by Victoria, Morales, and Guerrero\n\n01/05/26 07:30 PM EST\n - 01/05/26 09:00 PM EST\Description:\nPresented by Rainer Beckmann\nThis seminar class explores the rich textures and vibrant rhythms of Spanish Renaissance music, as it delves into Epiphany-themed works by three of Spain’s most celebrated composers. Experience the intricate polyphony of Tomás Luis de Victoria, the luminous melodies of Francisco Guerrero, and the heartfelt expressions of Cristóbal de Morales, all adapted for recorders of multiple sizes. Celebrate the journey of the Magi and the festive spirit of the season through playing music that blends devotional depth with lively charm.\n\nAll are welcome! SATB Recorders, A=440hz\n\Details:\nJoin the Highland Park Recorder Society for a very exciting year of online Seminars in Early Music Performance. We will learn from distinguished professors, musicologists, and leaders in the early music field, – Professors Adam Gilbert, Ph.D of USC in CA, Rainer Beckmann, Annette Bauer, Ph.D. from Germany and Montreal, Lewis Baratz, Ph.D. of PA, and Héloise Degrugillier, Ph.D. They are joining us from many parts of the country and Canada to lead us in exploring music from the 14th to 18th centuries.\n\nEach of the seminars for 2026 include an historical lecture and an opportunity to play music that is sent in advance to all who register. Seminars are priced at $25 each. The Zoom sessions open at 7:15 PM EST for a meet and greet, and the instruction will begin at 7:30 PM EST.\n\nHPRS Membership required for all Participants except for first-time attendees. For 2026 the membership is $30.\n\Location:\nhttps://hprecorder.org/join/application/online-seminars/\n\n,
X-ALT-DESC;FMTTYPE=text/html:Online Seminar: A Renaissance Three Kings Day Celebration: Spanish Motets and Villancicos by Victoria, Morales, and Guerrero<br /><br />01/05/26 07:30 PM EST - 01/05/26 09:00 PM EST<br />Description:<br />Presented by Rainer Beckmann
<p>This seminar class explores the rich textures and vibrant rhythms of Spanish Renaissance music, as it delves into Epiphany-themed works by three of Spain&rsquo;s most celebrated composers. Experience the intricate polyphony of Tom&aacute;s Luis de Victoria, the luminous melodies of Francisco Guerrero, and the heartfelt expressions of Crist&oacute;bal de Morales, all adapted for recorders of multiple sizes. Celebrate the journey of the Magi and the festive spirit of the season through playing music that blends devotional depth with lively charm.</p>

<p>All are welcome! SATB Recorders, A=440hz</p>
<br />Details:<br /><p>Join the Highland Park Recorder Society for a very exciting year of online Seminars in Early Music Performance. We will learn from distinguished professors, musicologists, and leaders in the early music field, &ndash; Professors Adam Gilbert, Ph.D of USC in CA, Rainer Beckmann, Annette Bauer, Ph.D. from Germany and Montreal, Lewis Baratz, Ph.D. of PA, and H&eacute;loise Degrugillier, Ph.D. They are joining us from many parts of the country and Canada to lead us in exploring music from the 14th to 18th centuries.</p>

<p>Each of the seminars for 2026 include an historical lecture and an opportunity to play music that is sent in advance to all who register. Seminars are priced at $25 each. The Zoom sessions open at 7:15 PM EST for a meet and greet, and the instruction will begin at 7:30 PM EST.</p>

<p>HPRS Membership required for all Participants except for first-time attendees. For 2026 the membership is $30.</p>
<br />Location:<br />https://hprecorder.org/join/application/online-seminars/<br /><br />,  
PRIORITY:3
TRANSP:TRANSPARENT
BEGIN:VALARM
TRIGGER:-PT5M
ACTION:DISPLAY
DESCRIPTION:Reminder
END:VALARM
END:VEVENT
END:VCALENDAR
