BEGIN:VCALENDAR
VERSION:2.0
CALSCALE:GREGORIAN
METHOD:PUBLISH
PRODID://ARSO//465619
BEGIN:VEVENT
DTSTAMP:20260422T172534
VTIMEZONE:America/Los_Angeles
DTSTART:20251118T030000Z
DTEND:20251118T050000Z
UID:465619
SUMMARY:Mid-Peninsula Recorder Orchestra meeting
LOCATION:Veterans Memorial Senior Center, 1455 Madison Avenue, Redwood City, CA, 94061
DESCRIPTION:Mid-Peninsula Recorder Orchestra meeting\n\n11/17/25 07:00 PM PST\n - 11/17/25 09:00 PM PST\Description:\nMid-Peninsula Recorder Orchestra meeting\n\Details:\nThe Mid-Peninsula Recorder Orchestra will hold the next regular meeting of its 2025-26 season at 7:00 P.M. on Monday, November 17, in the Sunset Room at the Veterans Memorial Senior Center, 1455 Madison Avenue at St. Francis St. in Redwood City. All those who play recorder, early winds or early strings are invited to attend and asked to bring their instruments and a music stand. Music will be provided at the meeting. If you would like to attend this meeting on line please e-mail Ray White at <rayhwhite@yahoo.com> to receive an Zoom invitation.\n\nThe Mid-Peninsula Recorder Orchestra, an affiliate of the San Francisco Early Music Society, is an organization of recorder and other early instrument players that exists for the purpose of joint music making. Membership is open without audition to anyone who knows the basics of his or her instrument and is able to read and play the music provided at the bimonthly meetings. For further information regarding the Mid-Peninsula Recorder Orchestra please visit the orchestra’s website at <http://mpro-online.org/> or contact Frederic Palmer at 650-591-3648.\n\Location:\nVeterans Memorial Senior Center\n1455 Madison Avenue\nRedwood City, CA 94061
X-ALT-DESC;FMTTYPE=text/html:Mid-Peninsula Recorder Orchestra meeting<br /><br />11/17/25 07:00 PM PST - 11/17/25 09:00 PM PST<br />Description:<br /><p>Mid-Peninsula Recorder Orchestra meeting</p>
<br />Details:<br /><p>The Mid-Peninsula Recorder Orchestra will hold the next regular meeting of its 2025-26 season at 7:00 P.M. on Monday, November 17, in the Sunset Room at the Veterans Memorial Senior Center, 1455 Madison Avenue at St. Francis St. in Redwood City. All those who play recorder, early winds or early strings are invited to attend and asked to bring their instruments and a music stand. Music will be provided at the meeting. If you would like to attend this meeting on line please e-mail Ray White at &lt;rayhwhite@yahoo.com&gt; to receive an Zoom invitation.</p>

<p>The Mid-Peninsula Recorder Orchestra, an affiliate of the San Francisco Early Music Society, is an organization of recorder and other early instrument players that exists for the purpose of joint music making. Membership is open without audition to anyone who knows the basics of his or her instrument and is able to read and play the music provided at the bimonthly meetings. For further information regarding the Mid-Peninsula Recorder Orchestra please visit the orchestra&rsquo;s website at &lt;http://mpro-online.org/&gt; or contact Frederic Palmer at 650-591-3648.</p>
<br />Location:<br />Veterans Memorial Senior Center<br />1455 Madison Avenue<br />Redwood City, CA 94061
PRIORITY:3
TRANSP:TRANSPARENT
BEGIN:VALARM
TRIGGER:-PT5M
ACTION:DISPLAY
DESCRIPTION:Reminder
END:VALARM
END:VEVENT
END:VCALENDAR
