BEGIN:VCALENDAR
VERSION:2.0
CALSCALE:GREGORIAN
METHOD:PUBLISH
PRODID://ARSO//448935
BEGIN:VEVENT
DTSTAMP:20260421T085413
VTIMEZONE:America/New_York
DTSTART:20260411T173000Z
DTEND:20260411T193000Z
UID:448935
SUMMARY:New York Recorder Guild Meeting
LOCATION:
DESCRIPTION:New York Recorder Guild Meeting\n\n04/11/26 01:30 PM EST\n - 04/11/26 03:30 PM EST\Description:\nRecorder players at all levels are welcome. Beginners should be comfortable with either the C fingerings of the soprano and tenor or the F fingerings of the alto and bass. Eventually, beginners should learn both C and F fingerings so that they can enjoy playing different parts of a musical piece.\n \nBring any size of soprano, alto, tenor, or bass recorder that you have. You will have a chance to explore more than one part of each piece. Both plastic and wooden instruments are welcome. Pitch is A=440.\n \nPlease bring a music stand. We recommend that you bring a stand light to supplement the ceiling light. \n\nMore info: https://www.nyrg.org/\n---\nThe Church of Saint Mary the Virgin at 145 West 46th Street, between Sixth and Seventh Avenues in Manhattan. Meetings are held in St. Joseph’s Hall, a side chapel of St. Mary's. Located in a brick building to the left of the main church, the entranceway is distinguished by the street number 145 displayed on the door. \n1:30-3:30 PM. Doors open at 1PM.\n---\nMeeting Fees:\n$20 per meeting for members\n$30 per meeting for non-members\n-----\nFULL SEASON PREPAYMENT OPTION: $180. Includes annual membership dues and meeting fees for the entire 2025-26 season.\n-----\nSend payment using Zelle to NYRG treasurer Judith Wink at jwink@nyc.rr.com. Please put your email address in the Notes field. Alternatively, send checks to New York Recorder Guild, 145 West 93rd Street, Apt. 2, New York, NY 10025.
X-ALT-DESC;FMTTYPE=text/html:New York Recorder Guild Meeting<br /><br />04/11/26 01:30 PM EST - 04/11/26 03:30 PM EST<br />Description:<br />Recorder players at all levels are welcome. Beginners should be comfortable with either the C fingerings of the soprano and tenor or the F fingerings of the alto and bass. Eventually, beginners should learn both C and F fingerings so that they can enjoy playing different parts of a musical piece.<br />
&nbsp;<br />
Bring any size of soprano, alto, tenor, or bass recorder that you have. You will have a chance to explore more than one part of each piece. Both plastic and wooden instruments are welcome. Pitch is A=440.<br />
&nbsp;<br />
Please bring a music stand.&nbsp;We recommend that you bring a stand light to supplement the ceiling light.&nbsp;<br />
<br />
More info:&nbsp;<a href="https://www.nyrg.org/">https://www.nyrg.org/</a><br />
---<br />
The Church of Saint Mary the Virgin at 145 West 46th Street, between Sixth and Seventh Avenues in Manhattan. Meetings are held in St. Joseph&rsquo;s Hall, a side chapel of St. Mary's. Located in a brick building to the left of the main church, the&nbsp;entranceway is distinguished by the street number 145 displayed on the door.&nbsp;<br />
1:30-3:30 PM. Doors open at 1PM.<br />
---<br />
Meeting Fees:<br />
$20 per meeting for members<br />
$30 per meeting for non-members<br />
-----<br />
FULL SEASON PREPAYMENT OPTION: $180. Includes annual membership dues and meeting fees for the entire&nbsp;2025-26 season.<br />
-----<br />
Send payment using&nbsp;Zelle&nbsp;to NYRG treasurer Judith Wink at jwink@nyc.rr.com.&nbsp;Please put your email address in the Notes&nbsp;field. Alternatively, send checks to New York Recorder Guild, 145 West 93rd Street, Apt. 2, New York, NY 10025.
PRIORITY:3
TRANSP:TRANSPARENT
BEGIN:VALARM
TRIGGER:-PT5M
ACTION:DISPLAY
DESCRIPTION:Reminder
END:VALARM
END:VEVENT
END:VCALENDAR
